BEGIN:VCALENDAR
VERSION:2.0
PRODID:-//South Carolina Free Will Baptist - ECPv6.15.20//NONSGML v1.0//EN
CALSCALE:GREGORIAN
METHOD:PUBLISH
X-ORIGINAL-URL:https://scfwb.com
X-WR-CALDESC:Events for South Carolina Free Will Baptist
REFRESH-INTERVAL;VALUE=DURATION:PT1H
X-Robots-Tag:noindex
X-PUBLISHED-TTL:PT1H
BEGIN:VTIMEZONE
TZID:Asia/Kolkata
BEGIN:STANDARD
TZOFFSETFROM:+0530
TZOFFSETTO:+0530
TZNAME:IST
DTSTART:20210101T000000
END:STANDARD
END:VTIMEZONE
BEGIN:VEVENT
DTSTART;TZID=Asia/Kolkata:20220611T183000
DTEND;TZID=Asia/Kolkata:20220611T213000
DTSTAMP:20260423T115505
CREATED:20210314T202904Z
LAST-MODIFIED:20211006T151545Z
UID:1766-1654972200-1654983000@scfwb.com
SUMMARY:Eastern Conference Meeting
DESCRIPTION:
URL:https://scfwb.com/event/eastern-conference-meeting-6
END:VEVENT
BEGIN:VEVENT
DTSTART;TZID=Asia/Kolkata:20220613T210000
DTEND;TZID=Asia/Kolkata:20220613T223000
DTSTAMP:20260423T115505
CREATED:20210314T202904Z
LAST-MODIFIED:20211006T151545Z
UID:1767-1655154000-1655159400@scfwb.com
SUMMARY:Spartanburg Ministers Luncheon
DESCRIPTION:
URL:https://scfwb.com/event/spartanburg-ministers-luncheon-15
LOCATION:Grapevine
END:VEVENT
BEGIN:VEVENT
DTSTART;TZID=Asia/Kolkata:20220614T180000
DTEND;TZID=Asia/Kolkata:20220614T193000
DTSTAMP:20260423T115505
CREATED:20210314T202904Z
LAST-MODIFIED:20211006T151546Z
UID:1768-1655229600-1655235000@scfwb.com
SUMMARY:Florence/Darlington Ministers Breakfast
DESCRIPTION:
URL:https://scfwb.com/event/florence-darlington-ministers-breakfast-15
LOCATION:Bazen’s Florence
END:VEVENT
BEGIN:VEVENT
DTSTART;TZID=Asia/Kolkata:20220621T200000
DTEND;TZID=Asia/Kolkata:20220621T213000
DTSTAMP:20260423T115505
CREATED:20210314T202904Z
LAST-MODIFIED:20210830T124527Z
UID:1769-1655841600-1655847000@scfwb.com
SUMMARY:Lake City Ministers Lucheon
DESCRIPTION:
URL:https://scfwb.com/event/lake-city-ministers-lucheon-16
LOCATION:Railway
END:VEVENT
BEGIN:VEVENT
DTSTART;TZID=Asia/Kolkata:20220622T030000
DTEND;TZID=Asia/Kolkata:20220622T043000
DTSTAMP:20260423T115505
CREATED:20210830T131447Z
LAST-MODIFIED:20211006T151546Z
UID:9572-1655866800-1655872200@scfwb.com
SUMMARY:Lake City Ministers Lucheon
DESCRIPTION:
URL:https://scfwb.com/event/lake-city-ministers-lucheon-41
LOCATION:Railway
END:VEVENT
BEGIN:VEVENT
DTSTART;TZID=Asia/Kolkata:20220627T183000
DTEND;TZID=Asia/Kolkata:20220627T200000
DTSTAMP:20260423T115505
CREATED:20210314T202904Z
LAST-MODIFIED:20211006T151546Z
UID:1770-1656354600-1656360000@scfwb.com
SUMMARY:Lancaster/Rock Hill Ministers Breakfast
DESCRIPTION:
URL:https://scfwb.com/event/lancaster-rock-hill-ministers-breakfast-16
LOCATION:Jomar’s
END:VEVENT
END:VCALENDAR