BEGIN:VCALENDAR
VERSION:2.0
PRODID:-//South Carolina Free Will Baptist - ECPv6.15.20//NONSGML v1.0//EN
CALSCALE:GREGORIAN
METHOD:PUBLISH
X-WR-CALNAME:South Carolina Free Will Baptist
X-ORIGINAL-URL:https://scfwb.com
X-WR-CALDESC:Events for South Carolina Free Will Baptist
REFRESH-INTERVAL;VALUE=DURATION:PT1H
X-Robots-Tag:noindex
X-PUBLISHED-TTL:PT1H
BEGIN:VTIMEZONE
TZID:Asia/Kolkata
BEGIN:STANDARD
TZOFFSETFROM:+0530
TZOFFSETTO:+0530
TZNAME:IST
DTSTART:20210101T000000
END:STANDARD
END:VTIMEZONE
BEGIN:VEVENT
DTSTART;TZID=Asia/Kolkata:20220305T193000
DTEND;TZID=Asia/Kolkata:20220305T223000
DTSTAMP:20260421T104436
CREATED:20210314T202900Z
LAST-MODIFIED:20211006T151543Z
UID:1745-1646508600-1646519400@scfwb.com
SUMMARY:Beaver Creek Annual District WAC Meeting
DESCRIPTION:
URL:https://scfwb.com/event/beaver-creek-annual-district-wac-meeting
END:VEVENT
BEGIN:VEVENT
DTSTART;TZID=Asia/Kolkata:20220308T190000
DTEND;TZID=Asia/Kolkata:20220308T203000
DTSTAMP:20260421T104436
CREATED:20210314T202900Z
LAST-MODIFIED:20211006T151543Z
UID:1746-1646766000-1646771400@scfwb.com
SUMMARY:Florence/Darlington Ministers Breakfast
DESCRIPTION:
URL:https://scfwb.com/event/florence-darlington-ministers-breakfast-12
LOCATION:Bazen’s Florence
END:VEVENT
BEGIN:VEVENT
DTSTART;TZID=Asia/Kolkata:20220312T193000
DTEND;TZID=Asia/Kolkata:20220312T200000
DTSTAMP:20260421T104436
CREATED:20210314T202901Z
LAST-MODIFIED:20211006T151543Z
UID:1748-1647113400-1647115200@scfwb.com
SUMMARY:Eastern Conference
DESCRIPTION:
URL:https://scfwb.com/event/eastern-conference
END:VEVENT
BEGIN:VEVENT
DTSTART;TZID=Asia/Kolkata:20220312T193000
DTEND;TZID=Asia/Kolkata:20220312T223000
DTSTAMP:20260421T104436
CREATED:20210314T202900Z
LAST-MODIFIED:20211006T151543Z
UID:1747-1647113400-1647124200@scfwb.com
SUMMARY:Eastern Conference Meeting
DESCRIPTION:
URL:https://scfwb.com/event/eastern-conference-meeting-5
END:VEVENT
BEGIN:VEVENT
DTSTART;TZID=Asia/Kolkata:20220314T210000
DTEND;TZID=Asia/Kolkata:20220314T223000
DTSTAMP:20260421T104436
CREATED:20210314T202901Z
LAST-MODIFIED:20211006T151543Z
UID:1749-1647291600-1647297000@scfwb.com
SUMMARY:Spartanburg Ministers Luncheon
DESCRIPTION:
URL:https://scfwb.com/event/spartanburg-ministers-luncheon-12
LOCATION:Grapevine
END:VEVENT
BEGIN:VEVENT
DTSTART;TZID=Asia/Kolkata:20220315T200000
DTEND;TZID=Asia/Kolkata:20220315T213000
DTSTAMP:20260421T104436
CREATED:20210314T202901Z
LAST-MODIFIED:20210830T124526Z
UID:1750-1647374400-1647379800@scfwb.com
SUMMARY:Lake City Ministers Lucheon
DESCRIPTION:
URL:https://scfwb.com/event/lake-city-ministers-lucheon-13
LOCATION:Railway
END:VEVENT
BEGIN:VEVENT
DTSTART;TZID=Asia/Kolkata:20220316T030000
DTEND;TZID=Asia/Kolkata:20220316T043000
DTSTAMP:20260421T104436
CREATED:20210830T131444Z
LAST-MODIFIED:20211006T151543Z
UID:9569-1647399600-1647405000@scfwb.com
SUMMARY:Lake City Ministers Lucheon
DESCRIPTION:
URL:https://scfwb.com/event/lake-city-ministers-lucheon-38
LOCATION:Railway
END:VEVENT
BEGIN:VEVENT
DTSTART;TZID=Asia/Kolkata:20220319T180000
DTEND;TZID=Asia/Kolkata:20220319T183000
DTSTAMP:20260421T104436
CREATED:20210314T202901Z
LAST-MODIFIED:20211006T151543Z
UID:1751-1647712800-1647714600@scfwb.com
SUMMARY:Annual SC WAC Meeting
DESCRIPTION:
URL:https://scfwb.com/event/annual-sc-wac-meeting-2
END:VEVENT
BEGIN:VEVENT
DTSTART;TZID=Asia/Kolkata:20220328T183000
DTEND;TZID=Asia/Kolkata:20220328T200000
DTSTAMP:20260421T104436
CREATED:20210314T202901Z
LAST-MODIFIED:20211006T151544Z
UID:1752-1648492200-1648497600@scfwb.com
SUMMARY:Lancaster/Rock Hill Ministers Breakfast
DESCRIPTION:
URL:https://scfwb.com/event/lancaster-rock-hill-ministers-breakfast-13
LOCATION:Jomar’s
END:VEVENT
END:VCALENDAR