BEGIN:VCALENDAR
VERSION:2.0
PRODID:-//South Carolina Free Will Baptist - ECPv6.15.20//NONSGML v1.0//EN
CALSCALE:GREGORIAN
METHOD:PUBLISH
X-WR-CALNAME:South Carolina Free Will Baptist
X-ORIGINAL-URL:https://scfwb.com
X-WR-CALDESC:Events for South Carolina Free Will Baptist
REFRESH-INTERVAL;VALUE=DURATION:PT1H
X-Robots-Tag:noindex
X-PUBLISHED-TTL:PT1H
BEGIN:VTIMEZONE
TZID:Asia/Kolkata
BEGIN:STANDARD
TZOFFSETFROM:+0530
TZOFFSETTO:+0530
TZNAME:IST
DTSTART:20210101T000000
END:STANDARD
END:VTIMEZONE
BEGIN:VEVENT
DTSTART;TZID=Asia/Kolkata:20220228T193000
DTEND;TZID=Asia/Kolkata:20220228T210000
DTSTAMP:20260421T103256
CREATED:20210314T202900Z
LAST-MODIFIED:20211006T151543Z
UID:1744-1646076600-1646082000@scfwb.com
SUMMARY:Lancaster/Rock Hill Ministers Breakfast
DESCRIPTION:
URL:https://scfwb.com/event/lancaster-rock-hill-ministers-breakfast-12
LOCATION:Jomar’s
END:VEVENT
BEGIN:VEVENT
DTSTART;TZID=Asia/Kolkata:20220228T193000
DTEND;TZID=Asia/Kolkata:20220228T223000
DTSTAMP:20260421T103256
CREATED:20210314T202900Z
LAST-MODIFIED:20211006T151543Z
UID:1743-1646076600-1646087400@scfwb.com
SUMMARY:SC Conference District Annual Meeting
DESCRIPTION:
URL:https://scfwb.com/event/sc-conference-district-annual-meeting
END:VEVENT
END:VCALENDAR